BEGIN:VCALENDAR
VERSION:2.0
PRODID:-//Mounting Horizons Inc. - ECPv6.15.18//NONSGML v1.0//EN
CALSCALE:GREGORIAN
METHOD:PUBLISH
X-WR-CALNAME:Mounting Horizons Inc.
X-ORIGINAL-URL:https://mhitx.org
X-WR-CALDESC:Events for Mounting Horizons Inc.
REFRESH-INTERVAL;VALUE=DURATION:PT1H
X-Robots-Tag:noindex
X-PUBLISHED-TTL:PT1H
BEGIN:VTIMEZONE
TZID:America/Chicago
BEGIN:DAYLIGHT
TZOFFSETFROM:-0600
TZOFFSETTO:-0500
TZNAME:CDT
DTSTART:20230312T080000
END:DAYLIGHT
BEGIN:STANDARD
TZOFFSETFROM:-0500
TZOFFSETTO:-0600
TZNAME:CST
DTSTART:20231105T070000
END:STANDARD
BEGIN:DAYLIGHT
TZOFFSETFROM:-0600
TZOFFSETTO:-0500
TZNAME:CDT
DTSTART:20240310T080000
END:DAYLIGHT
BEGIN:STANDARD
TZOFFSETFROM:-0500
TZOFFSETTO:-0600
TZNAME:CST
DTSTART:20241103T070000
END:STANDARD
BEGIN:DAYLIGHT
TZOFFSETFROM:-0600
TZOFFSETTO:-0500
TZNAME:CDT
DTSTART:20250309T080000
END:DAYLIGHT
BEGIN:STANDARD
TZOFFSETFROM:-0500
TZOFFSETTO:-0600
TZNAME:CST
DTSTART:20251102T070000
END:STANDARD
END:VTIMEZONE
BEGIN:VEVENT
DTSTART;TZID=America/Chicago:20240909T130000
DTEND;TZID=America/Chicago:20240909T143000
DTSTAMP:20260425T132002
CREATED:20240828T144431Z
LAST-MODIFIED:20240828T152913Z
UID:10000327-1725886800-1725892200@mhitx.org
SUMMARY:Living Well in the Community – Orientation
DESCRIPTION:  \nMounting Horizons (MHI) will present Living Well in the Community (LWC) Peer Supported workshops about setting and working on quality-of-life goals. Orientation is Week 1 of 11.\n“Living Well” has two different and related meanings – developing healthy living habits and living a meaningful rich life. With MHI Facilitators\, during the Orientation session participants will identify how their life is now and how they would like for it to be. Like most people\, you probably love some parts of it and wish you could change other parts. People who work toward meaningful goals are more likely to learn and practice skills for healthy and independent living. Practicing skills for healthy living can help prevent physical and mental health conditions that people with disabilities may experience at higher rates than people without disabilities.
URL:https://mhitx.org/event/living-well-in-the-community-orientation-2/
LOCATION:Helen Hall Library\, 100 W. Walker\, League City\, TX\, 77573\, United States
CATEGORIES:ILS Events
ORGANIZER;CN="Darlene Shannon":MAILTO:ils@mhitx.org
END:VEVENT
BEGIN:VEVENT
DTSTART;TZID=America/Chicago:20240909T143000
DTEND;TZID=America/Chicago:20240909T151500
DTSTAMP:20260425T132002
CREATED:20240821T235608Z
LAST-MODIFIED:20240821T235951Z
UID:10000202-1725892200-1725894900@mhitx.org
SUMMARY:Basic Money Skills Class
DESCRIPTION:  \nDuring these sessions\, participants will work on basic money skills with a small group of peers. They will be counting different quantities of coins and bills using their phone or a calculator. Through active involvement\, participants will develop the ability to discern the appropriate currency required for purchases and verify that they give and receive accurate change. By mastering these monetary abilities\, participants will enhance their independence in the community when exchanging money
URL:https://mhitx.org/event/basic-money-skills-class-2/
LOCATION:Helen Hall Library\, 100 W. Walker\, League City\, TX\, 77573\, United States
CATEGORIES:ILS Events
ORGANIZER;CN="Darlene Shannon":MAILTO:ils@mhitx.org
END:VEVENT
END:VCALENDAR