BEGIN:VCALENDAR
VERSION:2.0
PRODID:-//Mounting Horizons Inc. - ECPv6.15.18//NONSGML v1.0//EN
CALSCALE:GREGORIAN
METHOD:PUBLISH
X-WR-CALNAME:Mounting Horizons Inc.
X-ORIGINAL-URL:https://mhitx.org
X-WR-CALDESC:Events for Mounting Horizons Inc.
REFRESH-INTERVAL;VALUE=DURATION:PT1H
X-Robots-Tag:noindex
X-PUBLISHED-TTL:PT1H
BEGIN:VTIMEZONE
TZID:America/Chicago
BEGIN:DAYLIGHT
TZOFFSETFROM:-0600
TZOFFSETTO:-0500
TZNAME:CDT
DTSTART:20230312T080000
END:DAYLIGHT
BEGIN:STANDARD
TZOFFSETFROM:-0500
TZOFFSETTO:-0600
TZNAME:CST
DTSTART:20231105T070000
END:STANDARD
BEGIN:DAYLIGHT
TZOFFSETFROM:-0600
TZOFFSETTO:-0500
TZNAME:CDT
DTSTART:20240310T080000
END:DAYLIGHT
BEGIN:STANDARD
TZOFFSETFROM:-0500
TZOFFSETTO:-0600
TZNAME:CST
DTSTART:20241103T070000
END:STANDARD
BEGIN:DAYLIGHT
TZOFFSETFROM:-0600
TZOFFSETTO:-0500
TZNAME:CDT
DTSTART:20250309T080000
END:DAYLIGHT
BEGIN:STANDARD
TZOFFSETFROM:-0500
TZOFFSETTO:-0600
TZNAME:CST
DTSTART:20251102T070000
END:STANDARD
END:VTIMEZONE
BEGIN:VEVENT
DTSTART;TZID=America/Chicago:20240911T100000
DTEND;TZID=America/Chicago:20240911T113000
DTSTAMP:20260425T131925
CREATED:20240828T142516Z
LAST-MODIFIED:20240828T152933Z
UID:10000234-1726048800-1726054200@mhitx.org
SUMMARY:Living Well in the Community – Orientation
DESCRIPTION:  \nMounting Horizons (MHI) will present Living Well in the Community (LWC) Peer Supported workshops about setting and working on quality-of-life goals. Orientation is Week 1 of 11.\n“Living Well” has two different and related meanings – developing healthy living habits and living a meaningful rich life. With MHI Facilitators\, during the Orientation session participants will identify how their life is now and how they would like for it to be. Like most people\, you probably love some parts of it and wish you could change other parts. People who work toward meaningful goals are more likely to learn and practice skills for healthy and independent living. Practicing skills for healthy living can help prevent physical and mental health conditions that people with disabilities may experience at higher rates than people without disabilities.
URL:https://mhitx.org/event/living-well-in-the-community-orientation/
LOCATION:Rosenberg Library\, 2310 Sealy Ave\, Galveston\, TX\, 77550\, United States
CATEGORIES:ILS Events
ORGANIZER;CN="Darlene Shannon":MAILTO:ils@mhitx.org
END:VEVENT
END:VCALENDAR