BEGIN:VCALENDAR
VERSION:2.0
PRODID:-//Mounting Horizons Inc. - ECPv6.15.18//NONSGML v1.0//EN
CALSCALE:GREGORIAN
METHOD:PUBLISH
X-ORIGINAL-URL:https://mhitx.org
X-WR-CALDESC:Events for Mounting Horizons Inc.
REFRESH-INTERVAL;VALUE=DURATION:PT1H
X-Robots-Tag:noindex
X-PUBLISHED-TTL:PT1H
BEGIN:VTIMEZONE
TZID:America/Chicago
BEGIN:DAYLIGHT
TZOFFSETFROM:-0600
TZOFFSETTO:-0500
TZNAME:CDT
DTSTART:20230312T080000
END:DAYLIGHT
BEGIN:STANDARD
TZOFFSETFROM:-0500
TZOFFSETTO:-0600
TZNAME:CST
DTSTART:20231105T070000
END:STANDARD
BEGIN:DAYLIGHT
TZOFFSETFROM:-0600
TZOFFSETTO:-0500
TZNAME:CDT
DTSTART:20240310T080000
END:DAYLIGHT
BEGIN:STANDARD
TZOFFSETFROM:-0500
TZOFFSETTO:-0600
TZNAME:CST
DTSTART:20241103T070000
END:STANDARD
BEGIN:DAYLIGHT
TZOFFSETFROM:-0600
TZOFFSETTO:-0500
TZNAME:CDT
DTSTART:20250309T080000
END:DAYLIGHT
BEGIN:STANDARD
TZOFFSETFROM:-0500
TZOFFSETTO:-0600
TZNAME:CST
DTSTART:20251102T070000
END:STANDARD
END:VTIMEZONE
BEGIN:VEVENT
DTSTART;TZID=America/Chicago:20240930T130000
DTEND;TZID=America/Chicago:20240930T143000
DTSTAMP:20260425T105620
CREATED:20240828T025841Z
LAST-MODIFIED:20240828T153244Z
UID:10000302-1727701200-1727706600@mhitx.org
SUMMARY:Living Well in the Community – Healthy Reactions
DESCRIPTION:Mounting Horizons (MHI) will present Living Well in the Community (LWC) Peer Supported workshops about setting and working on quality-of-life goals. Healthy Reactions is Week 4 of 11.\nExperiencing setbacks and obstacles is a normal part of working to achieve quality of life goals\, but it is also frustrating. Learning to react to problems in a healthy way can reduce frustration when the path ahead becomes difficult. With MHI Facilitator support\, in this session participants explore how they can change their thoughts to reduce the frustration they may feel\, and how healthy reactions to problems can help them stay motivated.
URL:https://mhitx.org/event/living-well-in-the-community-healthy-reactions/
LOCATION:Helen Hall Library\, 100 W. Walker\, League City\, TX\, 77573\, United States
CATEGORIES:ILS Events
ORGANIZER;CN="Darlene Shannon":MAILTO:ils@mhitx.org
END:VEVENT
BEGIN:VEVENT
DTSTART;TZID=America/Chicago:20240930T143000
DTEND;TZID=America/Chicago:20240930T151500
DTSTAMP:20260425T105620
CREATED:20240822T000756Z
LAST-MODIFIED:20240822T000758Z
UID:10000205-1727706600-1727709300@mhitx.org
SUMMARY:Basic Money Skills Class
DESCRIPTION:  \nDuring these sessions\, participants will work on basic money skills with a small group of peers. They will be counting different quantities of coins and bills using their phone or a calculator. Through active involvement\, participants will develop the ability to discern the appropriate currency required for purchases and verify that they give and receive accurate change. By mastering these monetary abilities\, participants will enhance their independence in the community when exchanging money
URL:https://mhitx.org/event/basic-money-skills-class-4/
LOCATION:Helen Hall Library\, 100 W. Walker\, League City\, TX\, 77573\, United States
CATEGORIES:ILS Events
ORGANIZER;CN="Darlene Shannon":MAILTO:ils@mhitx.org
END:VEVENT
END:VCALENDAR