BEGIN:VCALENDAR
VERSION:2.0
PRODID:-//Mounting Horizons Inc. - ECPv6.15.18//NONSGML v1.0//EN
CALSCALE:GREGORIAN
METHOD:PUBLISH
X-WR-CALNAME:Mounting Horizons Inc.
X-ORIGINAL-URL:https://mhitx.org
X-WR-CALDESC:Events for Mounting Horizons Inc.
REFRESH-INTERVAL;VALUE=DURATION:PT1H
X-Robots-Tag:noindex
X-PUBLISHED-TTL:PT1H
BEGIN:VTIMEZONE
TZID:America/Chicago
BEGIN:DAYLIGHT
TZOFFSETFROM:-0600
TZOFFSETTO:-0500
TZNAME:CDT
DTSTART:20230312T080000
END:DAYLIGHT
BEGIN:STANDARD
TZOFFSETFROM:-0500
TZOFFSETTO:-0600
TZNAME:CST
DTSTART:20231105T070000
END:STANDARD
BEGIN:DAYLIGHT
TZOFFSETFROM:-0600
TZOFFSETTO:-0500
TZNAME:CDT
DTSTART:20240310T080000
END:DAYLIGHT
BEGIN:STANDARD
TZOFFSETFROM:-0500
TZOFFSETTO:-0600
TZNAME:CST
DTSTART:20241103T070000
END:STANDARD
BEGIN:DAYLIGHT
TZOFFSETFROM:-0600
TZOFFSETTO:-0500
TZNAME:CDT
DTSTART:20250309T080000
END:DAYLIGHT
BEGIN:STANDARD
TZOFFSETFROM:-0500
TZOFFSETTO:-0600
TZNAME:CST
DTSTART:20251102T070000
END:STANDARD
END:VTIMEZONE
BEGIN:VEVENT
DTSTART;TZID=America/Chicago:20241009T100000
DTEND;TZID=America/Chicago:20241009T113000
DTSTAMP:20260425T105458
CREATED:20240828T031339Z
LAST-MODIFIED:20241002T214319Z
UID:10000238-1728468000-1728473400@mhitx.org
SUMMARY:Living Well in the Community – Staying on Course
DESCRIPTION:Mounting Horizons (MHI) will present Living Well in the Community (LWC) Peer Supported workshops about setting and working on quality-of-life goals. Staying on Course is Week 5 of 11.\nThis session acknowledges that no one can eliminate all feelings of stress and frustration\, but that we can guard ourselves against becoming discouraged and giving up on our goals. Discouragement can come from outside and inside ourselves\, and so can encouragement. With MHI Facilitator support\, Staying on Course helps participants recognize those outer and inner voices that either discourage or encourage them\, and identifying what stress management techniques help them stay on track towards their goals.
URL:https://mhitx.org/event/living-well-in-the-community-staying-on-course/
LOCATION:Rosenberg Library\, 2310 Sealy Ave\, Galveston\, TX\, 77550\, United States
CATEGORIES:ILS Events
ORGANIZER;CN="Darlene Shannon":MAILTO:ils@mhitx.org
END:VEVENT
END:VCALENDAR