BEGIN:VCALENDAR
VERSION:2.0
PRODID:-//Mounting Horizons Inc. - ECPv6.15.18//NONSGML v1.0//EN
CALSCALE:GREGORIAN
METHOD:PUBLISH
X-WR-CALNAME:Mounting Horizons Inc.
X-ORIGINAL-URL:https://mhitx.org
X-WR-CALDESC:Events for Mounting Horizons Inc.
REFRESH-INTERVAL;VALUE=DURATION:PT1H
X-Robots-Tag:noindex
X-PUBLISHED-TTL:PT1H
BEGIN:VTIMEZONE
TZID:America/Chicago
BEGIN:DAYLIGHT
TZOFFSETFROM:-0600
TZOFFSETTO:-0500
TZNAME:CDT
DTSTART:20230312T080000
END:DAYLIGHT
BEGIN:STANDARD
TZOFFSETFROM:-0500
TZOFFSETTO:-0600
TZNAME:CST
DTSTART:20231105T070000
END:STANDARD
BEGIN:DAYLIGHT
TZOFFSETFROM:-0600
TZOFFSETTO:-0500
TZNAME:CDT
DTSTART:20240310T080000
END:DAYLIGHT
BEGIN:STANDARD
TZOFFSETFROM:-0500
TZOFFSETTO:-0600
TZNAME:CST
DTSTART:20241103T070000
END:STANDARD
BEGIN:DAYLIGHT
TZOFFSETFROM:-0600
TZOFFSETTO:-0500
TZNAME:CDT
DTSTART:20250309T080000
END:DAYLIGHT
BEGIN:STANDARD
TZOFFSETFROM:-0500
TZOFFSETTO:-0600
TZNAME:CST
DTSTART:20251102T070000
END:STANDARD
END:VTIMEZONE
BEGIN:VEVENT
DTSTART;TZID=America/Chicago:20241028T130000
DTEND;TZID=America/Chicago:20241028T143000
DTSTAMP:20260425T081643
CREATED:20240828T033235Z
LAST-MODIFIED:20241002T214606Z
UID:10000306-1730120400-1730125800@mhitx.org
SUMMARY:Living Well in the Community – Seeking Information
DESCRIPTION:Mounting Horizons (MHI) will present Living Well in the Community (LWC) Peer Supported workshops about setting and working on quality-of-life goals. Seeking Information is Week 7 of 11.\nUseful information can make achieving goals easier and can improve people’s quality of life. Often it can be difficult to know where to find good information\, and to take the first step in seeing it out. Sharing new information and asking questions can help people evaluate its usefulness. With MHI Facilitator support\, in this session participants practice making contact with a potential information source\, and then evaluate the information they receive.
URL:https://mhitx.org/event/living-well-in-the-community-seeking-information/
LOCATION:Helen Hall Library\, 100 W. Walker\, League City\, TX\, 77573\, United States
CATEGORIES:ILS Events
ORGANIZER;CN="Darlene Shannon":MAILTO:ils@mhitx.org
END:VEVENT
BEGIN:VEVENT
DTSTART;TZID=America/Chicago:20241028T143000
DTEND;TZID=America/Chicago:20241028T151500
DTSTAMP:20260425T081643
CREATED:20240821T235225Z
LAST-MODIFIED:20240822T000227Z
UID:10000209-1730125800-1730128500@mhitx.org
SUMMARY:Basic Money Skills Class
DESCRIPTION:  \nDuring these sessions\, participants will work on basic money skills with a small group of peers. They will be counting different quantities of coins and bills using their phone or a calculator. Through active involvement\, participants will develop the ability to discern the appropriate currency required for purchases and verify that they give and receive accurate change. By mastering these monetary abilities\, participants will enhance their independence in the community when exchanging money
URL:https://mhitx.org/event/basic-money-skills-class/2024-10-28/
LOCATION:Helen Hall Library\, 100 W. Walker\, League City\, TX\, 77573\, United States
CATEGORIES:ILS Events
ORGANIZER;CN="Darlene Shannon":MAILTO:ils@mhitx.org
END:VEVENT
END:VCALENDAR