BEGIN:VCALENDAR
VERSION:2.0
PRODID:-//Mounting Horizons Inc. - ECPv6.15.18//NONSGML v1.0//EN
CALSCALE:GREGORIAN
METHOD:PUBLISH
X-WR-CALNAME:Mounting Horizons Inc.
X-ORIGINAL-URL:https://mhitx.org
X-WR-CALDESC:Events for Mounting Horizons Inc.
REFRESH-INTERVAL;VALUE=DURATION:PT1H
X-Robots-Tag:noindex
X-PUBLISHED-TTL:PT1H
BEGIN:VTIMEZONE
TZID:America/Chicago
BEGIN:DAYLIGHT
TZOFFSETFROM:-0600
TZOFFSETTO:-0500
TZNAME:CDT
DTSTART:20230312T080000
END:DAYLIGHT
BEGIN:STANDARD
TZOFFSETFROM:-0500
TZOFFSETTO:-0600
TZNAME:CST
DTSTART:20231105T070000
END:STANDARD
BEGIN:DAYLIGHT
TZOFFSETFROM:-0600
TZOFFSETTO:-0500
TZNAME:CDT
DTSTART:20240310T080000
END:DAYLIGHT
BEGIN:STANDARD
TZOFFSETFROM:-0500
TZOFFSETTO:-0600
TZNAME:CST
DTSTART:20241103T070000
END:STANDARD
BEGIN:DAYLIGHT
TZOFFSETFROM:-0600
TZOFFSETTO:-0500
TZNAME:CDT
DTSTART:20250309T080000
END:DAYLIGHT
BEGIN:STANDARD
TZOFFSETFROM:-0500
TZOFFSETTO:-0600
TZNAME:CST
DTSTART:20251102T070000
END:STANDARD
END:VTIMEZONE
BEGIN:VEVENT
DTSTART;TZID=America/Chicago:20240515T110000
DTEND;TZID=America/Chicago:20240515T120000
DTSTAMP:20260422T160011
CREATED:20240326T191842Z
LAST-MODIFIED:20240327T155158Z
UID:10000166-1715770800-1715774400@mhitx.org
SUMMARY:Cooking Class LaMarque HS – Spaghetti Salad
DESCRIPTION:Youth from La Marque HS will practice their knife skills and using the microwave to make a Spaghetti Salad. They will review the steps before starting the cooking process\, gather and measure ingredients\, and clean up directions. Participant will get to taste their finished product and take home a copy of the step-by-step recipe (including clean-up directions) if wanted. This will enable the individual to be better equipped for independently using a knife and the microwave to make a Lunch\, Dinner\, or Side Dish. \n 
URL:https://mhitx.org/event/cooking-class-lamarque-hs-spaghetti-salad/
LOCATION:La Marque High School\, 397 Duroux Road\, La\, Marque\, 77568\, United States
CATEGORIES:Youth Services
ORGANIZER;CN="Darlene Shannon":MAILTO:ils@mhitx.org
END:VEVENT
BEGIN:VEVENT
DTSTART;TZID=America/Chicago:20240424T110000
DTEND;TZID=America/Chicago:20240424T120000
DTSTAMP:20260422T160011
CREATED:20240326T193030Z
LAST-MODIFIED:20240326T193030Z
UID:10000172-1713956400-1713960000@mhitx.org
SUMMARY:Cooking Class – La Marque HS
DESCRIPTION:Participant will practice their using a George Foreman Grill to make their own customized Panini Sandwich. They will review the recipe and steps before starting the process\, gather ingredients\, and clean up directions. Participant will get to choose their own ingredients for their Panini Sandwich\, taste their finished product\, and take home a copy of the step-by-step recipe/process (including clean-up directions) if wanted. This will enable the individual to be better equipped to independently use a George Foreman Grill to make a Lunch\, Dinner\, or Snack.
URL:https://mhitx.org/event/cooking-class-la-marque-hs/
LOCATION:La Marque High School\, 397 Duroux Road\, La\, Marque\, 77568\, United States
CATEGORIES:Youth Services
ORGANIZER;CN="Darlene Shannon":MAILTO:ils@mhitx.org
END:VEVENT
END:VCALENDAR